BEGIN:VCALENDAR
VERSION:2.0
PRODID:-//The Leveson Centre - ECPv6.15.20//NONSGML v1.0//EN
CALSCALE:GREGORIAN
METHOD:PUBLISH
X-WR-CALNAME:The Leveson Centre
X-ORIGINAL-URL:https://thelevesoncentre.org.uk
X-WR-CALDESC:Events for The Leveson Centre
REFRESH-INTERVAL;VALUE=DURATION:PT1H
X-Robots-Tag:noindex
X-PUBLISHED-TTL:PT1H
BEGIN:VTIMEZONE
TZID:Europe/London
BEGIN:DAYLIGHT
TZOFFSETFROM:+0000
TZOFFSETTO:+0100
TZNAME:BST
DTSTART:20250330T010000
END:DAYLIGHT
BEGIN:STANDARD
TZOFFSETFROM:+0100
TZOFFSETTO:+0000
TZNAME:GMT
DTSTART:20251026T010000
END:STANDARD
BEGIN:DAYLIGHT
TZOFFSETFROM:+0000
TZOFFSETTO:+0100
TZNAME:BST
DTSTART:20260329T010000
END:DAYLIGHT
BEGIN:STANDARD
TZOFFSETFROM:+0100
TZOFFSETTO:+0000
TZNAME:GMT
DTSTART:20261025T010000
END:STANDARD
BEGIN:DAYLIGHT
TZOFFSETFROM:+0000
TZOFFSETTO:+0100
TZNAME:BST
DTSTART:20270328T010000
END:DAYLIGHT
BEGIN:STANDARD
TZOFFSETFROM:+0100
TZOFFSETTO:+0000
TZNAME:GMT
DTSTART:20271031T010000
END:STANDARD
END:VTIMEZONE
BEGIN:VEVENT
DTSTART;TZID=Europe/London:20260507T103000
DTEND;TZID=Europe/London:20260507T120000
DTSTAMP:20260419T152536
CREATED:20260326T120638Z
LAST-MODIFIED:20260409T151807Z
UID:1654-1778149800-1778155200@thelevesoncentre.org.uk
SUMMARY:Brain Cancer Support Group
DESCRIPTION:Facilitated by Yorkshire’s Brain Tumour Charity\, we are hosting Brain Cancer Support Groups here in The Leveson Centre on the first Thursday of each month. \nThese peer support groups offer a safe and welcoming space to share your experiences\, gain support from others in similar situations\, and access valuable advice and coping strategies tailored to your needs. \nWhether you’re a patient\, family member/caregiver\, or have been bereaved by a brain tumour\, these groups provide a lifeline of understanding and connection. \nTo book your place\, visit Yorkshire’s Brain Tumour Charity website here.
URL:https://thelevesoncentre.org.uk/event/brain-cancer-support-group/
LOCATION:The Leveson Centre\, York Community Stadium\, York
ATTACH;FMTTYPE=image/png:https://thelevesoncentre.org.uk/wp-content/uploads/2026/03/fb-photos-4.png
END:VEVENT
BEGIN:VEVENT
DTSTART;TZID=Europe/London:20260514T103000
DTEND;TZID=Europe/London:20260514T123000
DTSTAMP:20260419T152536
CREATED:20260316T101621Z
LAST-MODIFIED:20260316T101621Z
UID:1648-1778754600-1778761800@thelevesoncentre.org.uk
SUMMARY:Look Good Feel Better
DESCRIPTION:It can be challenging to process a cancer diagnosis and manage the physical and emotional side-effects of cancer treatment. LGFB run free workshops both virtually and at Cancer Care Centres and Hospitals across the UK to support women\, men and young adults through this time. This workshop is led by trained volunteers in the beauty industry and provide practical advice about changes to skin\, eyebrows\, eyelashes\, hair\, nails and body confidence. The best thing about them? Every single one offers an invaluable opportunity to meet others going through a similar situation. \nPlease follow this link to book: Book a Workshop – Look Good Feel Better : Look Good Feel Better \nAlternatively\, please call The Leveson Centre on 01904 202647 or email us on support@thelevesoncentre.org.uk.
URL:https://thelevesoncentre.org.uk/event/look-good-feel-better-05/
LOCATION:The Leveson Centre\, York Community Stadium\, York
ATTACH;FMTTYPE=image/png:https://thelevesoncentre.org.uk/wp-content/uploads/2023/10/Look-Good-Feel-Better-3.png
END:VEVENT
END:VCALENDAR